View In:
ArcGIS JavaScript
ArcGIS Online Map Viewer
ArcGIS Earth
ArcMap
View Footprint In:
ArcGIS Online Map Viewer
Service Description: FGDS/Orthophoto
Name: FGDS/Orthophoto
Description:
Single Fused Map Cache: true
Tile Info:
- Height: 256
- Width: 256
- DPI: 96
-
Levels of Detail: 24
-
Level ID: 0
[ Start Tile, End Tile ]
- Resolution: 156543.03392800014
- Scale: 5.91657527591555E8
-
Level ID: 1
[ Start Tile, End Tile ]
- Resolution: 78271.51696399994
- Scale: 2.95828763795777E8
-
Level ID: 2
[ Start Tile, End Tile ]
- Resolution: 39135.75848200009
- Scale: 1.47914381897889E8
-
Level ID: 3
[ Start Tile, End Tile ]
- Resolution: 19567.87924099992
- Scale: 7.3957190948944E7
-
Level ID: 4
[ Start Tile, End Tile ]
- Resolution: 9783.93962049996
- Scale: 3.6978595474472E7
-
Level ID: 5
[ Start Tile, End Tile ]
- Resolution: 4891.96981024998
- Scale: 1.8489297737236E7
- Format: MIXED
- Compression Quality: 75.0
- LERC Error: NaN
- Origin:
X: -2.0037508342787E7
Y: 2.0037508342787E7
- Spatial Reference:
102100
(3857)
Extent:
XMin: 1.0853499385637498E7
YMin: 649308.1080625807
XMax: 1.1755469438161058E7
YMax: 2324848.5255253715
Spatial Reference:
102100
(3857)
Initial Extent:
XMin: 1.0853499385637498E7
YMin: 649308.1080625807
XMax: 1.1755469438161058E7
YMax: 2324848.5255253715
Spatial Reference:
102100
(3857)
Full Extent:
XMin: 1.0853499385637498E7
YMin: 649308.1080625807
XMax: 1.1755469438161058E7
YMax: 2324848.5255253715
Spatial Reference:
102100
(3857)
Pixel Size X: 0.5000471526433851
Pixel Size Y: 0.500047152643385
Band Count: 3
Pixel Type: U8
RasterFunction Infos: {"rasterFunctionInfos": [{
"name": "None",
"description": "A No-Op Function.",
"help": ""
}]}
Mensuration Capabilities: None
Has Histograms: true
Has Colormap: false
Has Multi Dimensions : false
Rendering Rule:
Min Scale: 1.8489297737236E7
Max Scale: 1128.497176
Copyright Text:
Service Data Type: esriImageServiceDataTypeRGB
Min Values: 0, 0, 0
Max Values: 255, 255, 255
Mean Values: 103.09969865821677, 114.95982612661119, 114.03995782813035
Standard Deviation Values: 75.79700164657531, 71.53919030305565, 60.07995288052726
Object ID Field: OBJECTID
Fields:
-
OBJECTID
(
type: esriFieldTypeOID
,
alias: OBJECTID
)
-
NAME
(
type: esriFieldTypeString
,
alias: NAME
,
length: 200
)
-
MINPS
(
type: esriFieldTypeDouble
,
alias: MINPS
)
-
MAXPS
(
type: esriFieldTypeDouble
,
alias: MAXPS
)
-
LOWPS
(
type: esriFieldTypeDouble
,
alias: LOWPS
)
-
HIGHPS
(
type: esriFieldTypeDouble
,
alias: HIGHPS
)
-
CATEGORY
(
type: esriFieldTypeInteger
,
alias: CATEGORY
,
Coded Values:
[0: Unknown]
,
[1: Primary]
,
[2: Overview]
, ...6 more...
)
-
TAG
(
type: esriFieldTypeString
,
alias: TAG
,
length: 100
)
-
GROUPNAME
(
type: esriFieldTypeString
,
alias: GROUPNAME
,
length: 100
)
-
PRODUCTNAME
(
type: esriFieldTypeString
,
alias: PRODUCTNAME
,
length: 100
)
-
CENTERX
(
type: esriFieldTypeDouble
,
alias: CENTERX
)
-
CENTERY
(
type: esriFieldTypeDouble
,
alias: CENTERY
)
-
ZORDER
(
type: esriFieldTypeInteger
,
alias: ZORDER
)
-
SHAPE
(
type: esriFieldTypeGeometry
,
alias: SHAPE
)
-
SHAPE.AREA
(
type: esriFieldTypeDouble
,
alias: SHAPE.AREA
)
-
SHAPE.LEN
(
type: esriFieldTypeDouble
,
alias: SHAPE.LEN
)
Default Mosaic Method: Northwest
Allowed Mosaic Methods: NorthWest,Center,LockRaster,ByAttribute,Nadir,Viewpoint,Seamline,None
SortField:
SortValue: null
Mosaic Operator: First
Default Compression Quality: 75
Default Resampling Method: Bilinear
Max Record Count: 1000
Max Image Height: 4100
Max Image Width: 15000
Max Download Image Count: 20
Max Mosaic Image Count: 20
Allow Raster Function: true
Allow Compute TiePoints: false
Supports Statistics: true
Supports Advanced Queries: true
Use StandardizedQueries: true
Raster Type Infos:
Name: Raster Dataset
Description: Supports all ArcGIS Raster Datasets
Help:
Has Raster Attribute Table: false
Edit Fields Info: null
Ownership Based AccessControl For Rasters: null
Child Resources:
Info
Histograms
Key Properties
Legend
MultiDimensionalInfo
rasterFunctionInfos
Supported Operations:
Export Image
Query
Identify
Download Rasters
Compute Histograms
Compute Statistics Histograms
Get Samples
Compute Class Statistics
Query Boundary